
BEGIN:VCALENDAR
VERSION:2.0
PRODID:-//Folkets hus Vänersborg - ECPv6.1.3//NONSGML v1.0//EN
CALSCALE:GREGORIAN
METHOD:PUBLISH
X-WR-CALNAME:Folkets hus Vänersborg
X-ORIGINAL-URL:https://folketshusvanersborg.se
X-WR-CALDESC:Händelser för Folkets hus Vänersborg
REFRESH-INTERVAL;VALUE=DURATION:PT1H
X-Robots-Tag:noindex
X-PUBLISHED-TTL:PT1H
BEGIN:VTIMEZONE
TZID:Europe/Stockholm
BEGIN:DAYLIGHT
TZOFFSETFROM:+0100
TZOFFSETTO:+0200
TZNAME:CEST
DTSTART:20230326T010000
END:DAYLIGHT
BEGIN:STANDARD
TZOFFSETFROM:+0200
TZOFFSETTO:+0100
TZNAME:CET
DTSTART:20231029T010000
END:STANDARD
END:VTIMEZONE
BEGIN:VEVENT
DTSTART;TZID=Europe/Stockholm:20231213T190000
DTEND;TZID=Europe/Stockholm:20231213T200000
DTSTAMP:20260424T030351
CREATED:20230719T080017Z
LAST-MODIFIED:20230719T081746Z
UID:53292-1702494000-1702497600@folketshusvanersborg.se
SUMMARY:Magnus Betnér - Work in progress
DESCRIPTION:Boka biljetter\n \nMagnus Betnér kommer till Vänersborg \nHumorlegendar. Provokatör. Debattör. Komiskt geni.\nI över 25 år har Magnus Betnér rört upp känslor. Med fler föreställningar och fler »lapp på luckan« än landets övriga komiker tillsammans så är Magnus Betnér fortfarande långt från mätt. Med ett tempo få kan matcha och en drivkraft att alltid bli bättre åker Magnus nu på en stor Work in Progress-turné . \nWork In Progress är att vara en del av den kreativa processen är att se en föreställning växa fram. Standup comedy existerar bara i nuet\, det ska upplevas live! Work in Progress är Magnus och publikens sätt att skapa liv\, att tillsammans ta en idé\, kasta ut den och se den växa. Ingen föreställning kommer vara den andra lik\, så medan kollegorna sitter och klottrar idéer i sina block\, bjuder Magnus in er till att tillsammans måla en canvas. \nI över 25 år har Magnus Betnér stått längst fram i ledet när svensk standup comedy ska utvecklas. Med er i publikens hjälp tar vi i nu nästa steg framåt och tillsammans utforskar vi helt nyskapat standupmaterial. \nFöreställningen producerad och Kulturaktiebolaget och biljetter säljs av kulturaktiebolaget via tickster. \n 
URL:https://folketshusvanersborg.se/event/magnus-betner-work-in-progress-2/
CATEGORIES:Standup
ATTACH;FMTTYPE=image/jpeg:https://folketshusvanersborg.se/wp-content/uploads/2023/07/2Magnus_Betnér_12-scaled.jpg
ORGANIZER;CN="Kulturaktiebolaget":MAILTO:kontakt@kulturaktiebolaget.se
END:VEVENT
END:VCALENDAR