
BEGIN:VCALENDAR
VERSION:2.0
PRODID:-//Folkets hus Vänersborg - ECPv6.1.3//NONSGML v1.0//EN
CALSCALE:GREGORIAN
METHOD:PUBLISH
X-ORIGINAL-URL:https://folketshusvanersborg.se
X-WR-CALDESC:Händelser för Folkets hus Vänersborg
REFRESH-INTERVAL;VALUE=DURATION:PT1H
X-Robots-Tag:noindex
X-PUBLISHED-TTL:PT1H
BEGIN:VTIMEZONE
TZID:Europe/Stockholm
BEGIN:DAYLIGHT
TZOFFSETFROM:+0100
TZOFFSETTO:+0200
TZNAME:CEST
DTSTART:20240331T010000
END:DAYLIGHT
BEGIN:STANDARD
TZOFFSETFROM:+0200
TZOFFSETTO:+0100
TZNAME:CET
DTSTART:20241027T010000
END:STANDARD
END:VTIMEZONE
BEGIN:VEVENT
DTSTART;TZID=Europe/Stockholm:20240126T170000
DTEND;TZID=Europe/Stockholm:20240127T010000
DTSTAMP:20260421T122858
CREATED:20240117T153240Z
LAST-MODIFIED:20240117T153240Z
UID:53805-1706288400-1706317200@folketshusvanersborg.se
SUMMARY:After Work med Dun Aengus
DESCRIPTION:Dun Aengus 🍀- Footstompin’ Irish Pubmusic & Songs\, har under 12 år som Duo\, turnérat flitigt Världen runt med Irish Trads (Instrumentals & Songs) inkl. USA\, Irland\, Skottland\, England + Övr Europa m.fl inspirerade av The Dubliners\, Clancy Brothers\, Pogues m.fl2
URL:https://folketshusvanersborg.se/event/after-work-med-dun-aengus/
LOCATION:folkets hus vänersborg\, Kungsgatan 15\, Vänersborg\, 462 33\, Sverige
CATEGORIES:after work,irish
ATTACH;FMTTYPE=image/jpeg:https://folketshusvanersborg.se/wp-content/uploads/2023/08/Dun-Aengus-2.jpg
END:VEVENT
END:VCALENDAR